BEGIN:VCALENDAR
VERSION:2.0
PRODID:-//wp-events-plugin.com//7.2.3.1//EN
BEGIN:VEVENT
UID:1@wild-echt-wunderbar.de
DTSTART:20220327T100000Z
DTEND:20220327T120000Z
DTSTAMP:20220222T172408Z
URL:http://wild-echt-wunderbar.de/events/fruehlingserwachen/
SUMMARY:WaldZeit (Spezial) - Frühlingserwachen
DESCRIPTION:Waldbaden im zeitigen Frühjahr - ein besonderes Erlebnis\nTauc
 he ein in den Frühlingswald und lass dich von seiner Schönheit verzauber
 n. Gönn dir ein paar schöne Stunden mit dir selbst in der Natur. Stefan
  und ich begleiten dich dabei. Achtsamkeitsübungen\, Mediationen\, ein p
 aar Infos zu den gerade sprießenden Pflanzen und Entspannung pur erwarten
  dich.
LOCATION:Berghaus Rhön\, Bergseestraße 99\, Riedenberg\, 97792\, Deutschl
 and
X-APPLE-STRUCTURED-LOCATION;VALUE=URI;X-ADDRESS=Bergseestraße 99\, Riedenb
 erg\, 97792\, Deutschland;X-APPLE-RADIUS=100;X-TITLE=Berghaus Rhön:geo:0,
 0
END:VEVENT
BEGIN:VEVENT
UID:3@wild-echt-wunderbar.de
DTSTART:20220515T100000Z
DTEND:20220515T140000Z
DTSTAMP:20220222T172803Z
URL:http://wild-echt-wunderbar.de/events/waldzeit-im-mai-2/
SUMMARY:WaldZeit im Mai
DESCRIPTION:
LOCATION:Berghaus Rhön\, Bergseestraße 99\, Riedenberg\, 97792\, Deutschl
 and
X-APPLE-STRUCTURED-LOCATION;VALUE=URI;X-ADDRESS=Bergseestraße 99\, Riedenb
 erg\, 97792\, Deutschland;X-APPLE-RADIUS=100;X-TITLE=Berghaus Rhön:geo:0,
 0
END:VEVENT
BEGIN:VEVENT
UID:7@wild-echt-wunderbar.de
DTSTART:20220522T090000Z
DTEND:20220522T160000Z
DTSTAMP:20220508T185409Z
URL:http://wild-echt-wunderbar.de/events/gruene-pflegeprodukte/
SUMMARY:Grüne Pflegeprodukte
DESCRIPTION:Buchung bitte über https://naturschule-diez.de/seminare/heilkr
 aeuter/courses/gruene-pflegeprodukte#appform\n\n&nbsp\;
LOCATION:Oberbach\, Haus der Schwarzen Berge\, Rhönstr. 97\, Wildflecken\,
  Deutschland
X-APPLE-STRUCTURED-LOCATION;VALUE=URI;X-ADDRESS=Rhönstr. 97\, Wildflecken\
 , Deutschland;X-APPLE-RADIUS=100;X-TITLE=Oberbach\, Haus der Schwarzen Ber
 ge:geo:0,0
END:VEVENT
BEGIN:VEVENT
UID:8@wild-echt-wunderbar.de
DTSTART:20220618T090000Z
DTEND:20220618T160000Z
DTSTAMP:20220508T185501Z
URL:http://wild-echt-wunderbar.de/events/wilde-hausapotheke/
SUMMARY:Wilde Hausapotheke
DESCRIPTION:Buchung bitte über https://naturschule-diez.de/seminare/heilkr
 aeuter/courses/wilde-hausapotheke#appform
LOCATION:Oberbach\, Haus der Schwarzen Berge\, Rhönstr. 97\, Wildflecken\,
  Deutschland
X-APPLE-STRUCTURED-LOCATION;VALUE=URI;X-ADDRESS=Rhönstr. 97\, Wildflecken\
 , Deutschland;X-APPLE-RADIUS=100;X-TITLE=Oberbach\, Haus der Schwarzen Ber
 ge:geo:0,0
END:VEVENT
BEGIN:VEVENT
UID:4@wild-echt-wunderbar.de
DTSTART:20220619T100000Z
DTEND:20220619T140000Z
DTSTAMP:20220222T172916Z
URL:http://wild-echt-wunderbar.de/events/die-laengste-zeit-im-wald/
SUMMARY:Die längste Zeit im Wald
DESCRIPTION:
LOCATION:Berghaus Rhön\, Bergseestraße 99\, Riedenberg\, 97792\, Deutschl
 and
X-APPLE-STRUCTURED-LOCATION;VALUE=URI;X-ADDRESS=Bergseestraße 99\, Riedenb
 erg\, 97792\, Deutschland;X-APPLE-RADIUS=100;X-TITLE=Berghaus Rhön:geo:0,
 0
END:VEVENT
BEGIN:VEVENT
UID:11@wild-echt-wunderbar.de
DTSTART:20220626T100000Z
DTEND:20220626T140000Z
DTSTAMP:20220508T185551Z
URL:http://wild-echt-wunderbar.de/events/waldbaden-achtsamkeit-im-wald/
SUMMARY:Waldbaden: Achtsamkeit im Wald
DESCRIPTION:Buchung bitte über https://www.volkersberg.de/lernwerk/bildung
 sangebote/event/2408-waldbaden-achtsamkeit-im-wald-mit-shinrin-yoku\n\n&nb
 sp\;
LOCATION:Haus Volkersberg\, Volkersberg 2\, Bad Brückenau\, 97769\, Deutsc
 hland
X-APPLE-STRUCTURED-LOCATION;VALUE=URI;X-ADDRESS=Volkersberg 2\, Bad Brücke
 nau\, 97769\, Deutschland;X-APPLE-RADIUS=100;X-TITLE=Haus Volkersberg:geo:
 0,0
END:VEVENT
BEGIN:VEVENT
UID:5@wild-echt-wunderbar.de
DTSTART:20220724T100000Z
DTEND:20220724T140000Z
DTSTAMP:20220222T173011Z
URL:http://wild-echt-wunderbar.de/events/urlaubszeit-im-wald/
SUMMARY:UrlaubsZeit im Wald
DESCRIPTION:
LOCATION:Berghaus Rhön\, Bergseestraße 99\, Riedenberg\, 97792\, Deutschl
 and
X-APPLE-STRUCTURED-LOCATION;VALUE=URI;X-ADDRESS=Bergseestraße 99\, Riedenb
 erg\, 97792\, Deutschland;X-APPLE-RADIUS=100;X-TITLE=Berghaus Rhön:geo:0,
 0
END:VEVENT
BEGIN:VEVENT
UID:9@wild-echt-wunderbar.de
DTSTART:20220731T100000Z
DTEND:20220731T160000Z
DTSTAMP:20220508T185631Z
URL:http://wild-echt-wunderbar.de/events/der-duft-des-sommers/
SUMMARY:Der Duft des Sommers
DESCRIPTION:Buchung bitte über https://www.volkersberg.de/lernwerk/bildung
 sangebote/event/2406-heimische-wildkr%C3%A4uter-der-duft-des-sommers\n\n&n
 bsp\;
LOCATION:Haus Volkersberg\, Volkersberg 2\, Bad Brückenau\, 97769\, Deutsc
 hland
X-APPLE-STRUCTURED-LOCATION;VALUE=URI;X-ADDRESS=Volkersberg 2\, Bad Brücke
 nau\, 97769\, Deutschland;X-APPLE-RADIUS=100;X-TITLE=Haus Volkersberg:geo:
 0,0
END:VEVENT
BEGIN:VEVENT
UID:12@wild-echt-wunderbar.de
DTSTART:20220910T090000Z
DTEND:20220910T160000Z
DTSTAMP:20220508T185708Z
URL:http://wild-echt-wunderbar.de/events/fortbildung-wie-gestalte-ich-eine
 n-waldbadetag-fuer-kids/
SUMMARY:Fortbildung: Wie gestalte ich einen Waldbadetag für Kids?
DESCRIPTION:Buchung bitte über https://naturschule-diez.de/seminare/ausbil
 dungen/courses/wie-gestalte-ich-einen-waldbadetag-fuer-kids#appform
LOCATION:Ramsthal\, Haus erLebenskunst\, Raßthaler Weg 14\, Ramsthal\, 977
 29\, Deutschland
X-APPLE-STRUCTURED-LOCATION;VALUE=URI;X-ADDRESS=Raßthaler Weg 14\, Ramstha
 l\, 97729\, Deutschland;X-APPLE-RADIUS=100;X-TITLE=Ramsthal\, Haus erLeben
 skunst:geo:0,0
END:VEVENT
BEGIN:VEVENT
UID:6@wild-echt-wunderbar.de
DTSTART:20220918T100000Z
DTEND:20220918T140000Z
DTSTAMP:20220222T173108Z
URL:http://wild-echt-wunderbar.de/events/spaetsommerzeit-im-wald/
SUMMARY:SpätsommerZeit im Wald
DESCRIPTION:
LOCATION:Berghaus Rhön\, Bergseestraße 99\, Riedenberg\, 97792\, Deutschl
 and
X-APPLE-STRUCTURED-LOCATION;VALUE=URI;X-ADDRESS=Bergseestraße 99\, Riedenb
 erg\, 97792\, Deutschland;X-APPLE-RADIUS=100;X-TITLE=Berghaus Rhön:geo:0,
 0
END:VEVENT
BEGIN:VEVENT
UID:10@wild-echt-wunderbar.de
DTSTART:20221009T100000Z
DTEND:20221009T160000Z
DTSTAMP:20220508T185800Z
URL:http://wild-echt-wunderbar.de/events/die-geschenke-des-herbstes/
SUMMARY:Die Geschenke des Herbstes
DESCRIPTION:Buchung bitte über https://www.volkersberg.de/lernwerk/bildung
 sangebote/event/2407-heimische-wildkr%C3%A4uter-die-geschenke-des-herbstes
 \n\n&nbsp\;
LOCATION:Haus Volkersberg\, Volkersberg 2\, Bad Brückenau\, 97769\, Deutsc
 hland
X-APPLE-STRUCTURED-LOCATION;VALUE=URI;X-ADDRESS=Volkersberg 2\, Bad Brücke
 nau\, 97769\, Deutschland;X-APPLE-RADIUS=100;X-TITLE=Haus Volkersberg:geo:
 0,0
END:VEVENT
END:VCALENDAR